BEGIN:VCALENDAR
VERSION:2.0
PRODID:-//GRACE UNITED CHURCH - ECPv6.15.17.1//NONSGML v1.0//EN
CALSCALE:GREGORIAN
METHOD:PUBLISH
X-ORIGINAL-URL:https://gucvt.com
X-WR-CALDESC:Events for GRACE UNITED CHURCH
REFRESH-INTERVAL;VALUE=DURATION:PT1H
X-Robots-Tag:noindex
X-PUBLISHED-TTL:PT1H
BEGIN:VTIMEZONE
TZID:America/New_York
BEGIN:DAYLIGHT
TZOFFSETFROM:-0500
TZOFFSETTO:-0400
TZNAME:EDT
DTSTART:20250309T070000
END:DAYLIGHT
BEGIN:STANDARD
TZOFFSETFROM:-0400
TZOFFSETTO:-0500
TZNAME:EST
DTSTART:20251102T060000
END:STANDARD
BEGIN:DAYLIGHT
TZOFFSETFROM:-0500
TZOFFSETTO:-0400
TZNAME:EDT
DTSTART:20260308T070000
END:DAYLIGHT
BEGIN:STANDARD
TZOFFSETFROM:-0400
TZOFFSETTO:-0500
TZNAME:EST
DTSTART:20261101T060000
END:STANDARD
BEGIN:DAYLIGHT
TZOFFSETFROM:-0500
TZOFFSETTO:-0400
TZNAME:EDT
DTSTART:20270314T070000
END:DAYLIGHT
BEGIN:STANDARD
TZOFFSETFROM:-0400
TZOFFSETTO:-0500
TZNAME:EST
DTSTART:20271107T060000
END:STANDARD
END:VTIMEZONE
BEGIN:VEVENT
DTSTART;TZID=America/New_York:20260314T140000
DTEND;TZID=America/New_York:20260314T163000
DTSTAMP:20260423T175439
CREATED:20250321T154401Z
LAST-MODIFIED:20251222T194817Z
UID:5229-1773496800-1773505800@gucvt.com
SUMMARY:VT United Youth Fellowship
DESCRIPTION:VT United Youth Fellowship
URL:https://gucvt.com/event/vt-united-youth-fellowship-2/
END:VEVENT
BEGIN:VEVENT
DTSTART;TZID=America/New_York:20260322T123000
DTEND;TZID=America/New_York:20260322T143000
DTSTAMP:20260423T175439
CREATED:20250402T130402Z
LAST-MODIFIED:20251222T194525Z
UID:5532-1774182600-1774189800@gucvt.com
SUMMARY:VT United General Fellowship
DESCRIPTION:VT United General Fellowship @ Shekinah Revival Church
URL:https://gucvt.com/event/vt-united-general-fellowship/
END:VEVENT
BEGIN:VEVENT
DTSTART;TZID=America/New_York:20260418T133000
DTEND;TZID=America/New_York:20260418T153000
DTSTAMP:20260423T175439
CREATED:20250402T130629Z
LAST-MODIFIED:20251222T195653Z
UID:5536-1776519000-1776526200@gucvt.com
SUMMARY:VT United Women's Fellowship
DESCRIPTION:VT United Women’s Fellowship (In-Person)
URL:https://gucvt.com/event/vt-united-womens-fellowship-2/
END:VEVENT
BEGIN:VEVENT
DTSTART;TZID=America/New_York:20260503T160000
DTEND;TZID=America/New_York:20260503T180000
DTSTAMP:20260423T175439
CREATED:20250321T154002Z
LAST-MODIFIED:20251222T195937Z
UID:5225-1777824000-1777831200@gucvt.com
SUMMARY:VT United Men's Fellowship
DESCRIPTION:VT United Men’s Fellowship @ New Namuna Church
URL:https://gucvt.com/event/vt-father-fellowship/
LOCATION:Grace United Church\, 901 North Avenue\, Burlington\, VT\, 05408\, United States
END:VEVENT
BEGIN:VEVENT
DTSTART;TZID=America/New_York:20260516T140000
DTEND;TZID=America/New_York:20260516T163000
DTSTAMP:20260423T175439
CREATED:20250321T151804Z
LAST-MODIFIED:20251222T194916Z
UID:5208-1778940000-1778949000@gucvt.com
SUMMARY:VT United Youth Fellowship
DESCRIPTION:VT United Youth Fellowship
URL:https://gucvt.com/event/vt-united-youth-fellowship/
LOCATION:Grace United Church\, 901 North Avenue\, Burlington\, VT\, 05408\, United States
END:VEVENT
BEGIN:VEVENT
DTSTART;TZID=America/New_York:20260711T140000
DTEND;TZID=America/New_York:20260711T163000
DTSTAMP:20260423T175439
CREATED:20251222T195346Z
LAST-MODIFIED:20251222T195346Z
UID:5822-1783778400-1783787400@gucvt.com
SUMMARY:VT United Youth Fellowship
DESCRIPTION:VT United Youth Fellowship
URL:https://gucvt.com/event/vt-united-youth-fellowship-3-2/
END:VEVENT
BEGIN:VEVENT
DTSTART;TZID=America/New_York:20260815T130000
DTEND;TZID=America/New_York:20260815T150000
DTSTAMP:20260423T175439
CREATED:20250321T151620Z
LAST-MODIFIED:20251222T195213Z
UID:5205-1786798800-1786806000@gucvt.com
SUMMARY:VT United Women's Fellowship
DESCRIPTION:VT United Women’s Fellowship.
URL:https://gucvt.com/event/vt-united-womens-fellowship/
LOCATION:Grace United Church\, 901 North Avenue\, Burlington\, VT\, 05408\, United States
END:VEVENT
BEGIN:VEVENT
DTSTART;TZID=America/New_York:20261003T140000
DTEND;TZID=America/New_York:20261003T160000
DTSTAMP:20260423T175439
CREATED:20251222T195531Z
LAST-MODIFIED:20251222T195531Z
UID:5824-1791036000-1791043200@gucvt.com
SUMMARY:VT United Youth Fellowship
DESCRIPTION:VT United Youth Fellowship
URL:https://gucvt.com/event/vt-united-youth-fellowship-3-3/
END:VEVENT
BEGIN:VEVENT
DTSTART;TZID=America/New_York:20261024T110000
DTEND;TZID=America/New_York:20261024T130000
DTSTAMP:20260423T175439
CREATED:20251222T200333Z
LAST-MODIFIED:20251222T200333Z
UID:5830-1792839600-1792846800@gucvt.com
SUMMARY:VT United General Fellowship
DESCRIPTION:VT United General Fellowship @ Grace United Church
URL:https://gucvt.com/event/vt-united-general-fellowship-2/
END:VEVENT
BEGIN:VEVENT
DTSTART;TZID=America/New_York:20261025T160000
DTEND;TZID=America/New_York:20261025T180000
DTSTAMP:20260423T175439
CREATED:20251222T200102Z
LAST-MODIFIED:20251222T200102Z
UID:5828-1792944000-1792951200@gucvt.com
SUMMARY:VT United Men's Fellowship
DESCRIPTION:VT United Men’s Fellowship @ New Covenent Church
URL:https://gucvt.com/event/vt-father-fellowship-2/
END:VEVENT
BEGIN:VEVENT
DTSTART;VALUE=DATE:20261212
DTEND;VALUE=DATE:20261213
DTSTAMP:20260423T175439
CREATED:20250402T130250Z
LAST-MODIFIED:20251222T194349Z
UID:5530-1797033600-1797119999@gucvt.com
SUMMARY:VT United Pre-Christmas
DESCRIPTION:VT United Pre-Christmas Celebration.
URL:https://gucvt.com/event/vt-united-pre-christmas/
END:VEVENT
END:VCALENDAR