BEGIN:VCALENDAR
VERSION:2.0
PRODID:-//GRACE UNITED CHURCH - ECPv6.15.17.1//NONSGML v1.0//EN
CALSCALE:GREGORIAN
METHOD:PUBLISH
X-WR-CALNAME:GRACE UNITED CHURCH
X-ORIGINAL-URL:https://gucvt.com
X-WR-CALDESC:Events for GRACE UNITED CHURCH
REFRESH-INTERVAL;VALUE=DURATION:PT1H
X-Robots-Tag:noindex
X-PUBLISHED-TTL:PT1H
BEGIN:VTIMEZONE
TZID:America/New_York
BEGIN:DAYLIGHT
TZOFFSETFROM:-0500
TZOFFSETTO:-0400
TZNAME:EDT
DTSTART:20240310T070000
END:DAYLIGHT
BEGIN:STANDARD
TZOFFSETFROM:-0400
TZOFFSETTO:-0500
TZNAME:EST
DTSTART:20241103T060000
END:STANDARD
BEGIN:DAYLIGHT
TZOFFSETFROM:-0500
TZOFFSETTO:-0400
TZNAME:EDT
DTSTART:20250309T070000
END:DAYLIGHT
BEGIN:STANDARD
TZOFFSETFROM:-0400
TZOFFSETTO:-0500
TZNAME:EST
DTSTART:20251102T060000
END:STANDARD
BEGIN:DAYLIGHT
TZOFFSETFROM:-0500
TZOFFSETTO:-0400
TZNAME:EDT
DTSTART:20260308T070000
END:DAYLIGHT
BEGIN:STANDARD
TZOFFSETFROM:-0400
TZOFFSETTO:-0500
TZNAME:EST
DTSTART:20261101T060000
END:STANDARD
END:VTIMEZONE
BEGIN:VEVENT
DTSTART;TZID=America/New_York:20250420T180000
DTEND;TZID=America/New_York:20250420T190000
DTSTAMP:20260423T175542
CREATED:20250327T160108Z
LAST-MODIFIED:20250402T131912Z
UID:5497-1745172000-1745175600@gucvt.com
SUMMARY:Easter Sunday Fellowship in ZOOM
DESCRIPTION:Easter Sunday Fellowship in Zoom at 6 pm.
URL:https://gucvt.com/event/easter-sunday/
END:VEVENT
BEGIN:VEVENT
DTSTART;TZID=America/New_York:20250418T170000
DTEND;TZID=America/New_York:20250418T180000
DTSTAMP:20260423T175542
CREATED:20250402T131729Z
LAST-MODIFIED:20250402T131837Z
UID:5545-1744995600-1744999200@gucvt.com
SUMMARY:Good Friday Fellowship at Dhan Chhetri's House
DESCRIPTION:Good Friday Fellowship
URL:https://gucvt.com/event/good-friday-fellowship/
END:VEVENT
BEGIN:VEVENT
DTSTART;TZID=America/New_York:20250405T110000
DTEND;TZID=America/New_York:20250405T133000
DTSTAMP:20260423T175542
CREATED:20250402T132347Z
LAST-MODIFIED:20250402T132347Z
UID:5552-1743850800-1743859800@gucvt.com
SUMMARY:Lord's Supper
DESCRIPTION:Lord’s Supper
URL:https://gucvt.com/event/lords-supper/
END:VEVENT
END:VCALENDAR