BEGIN:VCALENDAR
VERSION:2.0
PRODID:-//GRACE UNITED CHURCH - ECPv6.15.17.1//NONSGML v1.0//EN
CALSCALE:GREGORIAN
METHOD:PUBLISH
X-ORIGINAL-URL:https://gucvt.com
X-WR-CALDESC:Events for GRACE UNITED CHURCH
REFRESH-INTERVAL;VALUE=DURATION:PT1H
X-Robots-Tag:noindex
X-PUBLISHED-TTL:PT1H
BEGIN:VTIMEZONE
TZID:America/New_York
BEGIN:DAYLIGHT
TZOFFSETFROM:-0500
TZOFFSETTO:-0400
TZNAME:EDT
DTSTART:20240310T070000
END:DAYLIGHT
BEGIN:STANDARD
TZOFFSETFROM:-0400
TZOFFSETTO:-0500
TZNAME:EST
DTSTART:20241103T060000
END:STANDARD
BEGIN:DAYLIGHT
TZOFFSETFROM:-0500
TZOFFSETTO:-0400
TZNAME:EDT
DTSTART:20250309T070000
END:DAYLIGHT
BEGIN:STANDARD
TZOFFSETFROM:-0400
TZOFFSETTO:-0500
TZNAME:EST
DTSTART:20251102T060000
END:STANDARD
BEGIN:DAYLIGHT
TZOFFSETFROM:-0500
TZOFFSETTO:-0400
TZNAME:EDT
DTSTART:20260308T070000
END:DAYLIGHT
BEGIN:STANDARD
TZOFFSETFROM:-0400
TZOFFSETTO:-0500
TZNAME:EST
DTSTART:20261101T060000
END:STANDARD
END:VTIMEZONE
BEGIN:VEVENT
DTSTART;TZID=America/New_York:20250503T110000
DTEND;TZID=America/New_York:20250503T130000
DTSTAMP:20260424T044648
CREATED:20250417T152235Z
LAST-MODIFIED:20250417T152235Z
UID:5682-1746270000-1746277200@gucvt.com
SUMMARY:Child Dedication
DESCRIPTION:Child Dedication Same Time
URL:https://gucvt.com/event/child-dedication/
END:VEVENT
BEGIN:VEVENT
DTSTART;TZID=America/New_York:20250510T110000
DTEND;TZID=America/New_York:20250510T130000
DTSTAMP:20260424T044648
CREATED:20250402T131430Z
LAST-MODIFIED:20250402T131430Z
UID:5543-1746874800-1746882000@gucvt.com
SUMMARY:GUC Mother's Day Celebration
DESCRIPTION:GUC Mother’s Day Celebration
URL:https://gucvt.com/event/guc-mothers-day-celebration/
END:VEVENT
BEGIN:VEVENT
DTSTART;TZID=America/New_York:20250510T120000
DTEND;TZID=America/New_York:20250510T140000
DTSTAMP:20260424T044648
CREATED:20250417T151950Z
LAST-MODIFIED:20250417T151950Z
UID:5679-1746878400-1746885600@gucvt.com
SUMMARY:BCNE Youth Fellowship
DESCRIPTION:BCNE Youth Fellowship @ Grace United Church\, VT
URL:https://gucvt.com/event/bcne-youth-fellowship/
END:VEVENT
BEGIN:VEVENT
DTSTART;VALUE=DATE:20250524
DTEND;VALUE=DATE:20250525
DTSTAMP:20260424T044648
CREATED:20250417T152449Z
LAST-MODIFIED:20250417T152522Z
UID:5686-1748044800-1748131199@gucvt.com
SUMMARY:CHRIST CUP-2025
DESCRIPTION:CHRIST CUP-2025\, Soccer Tournament
URL:https://gucvt.com/event/christ-cup-2025/
END:VEVENT
BEGIN:VEVENT
DTSTART;TZID=America/New_York:20250524T090000
DTEND;TZID=America/New_York:20250524T110000
DTSTAMP:20260424T044648
CREATED:20250417T152609Z
LAST-MODIFIED:20250417T152609Z
UID:5688-1748077200-1748084400@gucvt.com
SUMMARY:Worship Fellowship from 9 AM -11 AM
DESCRIPTION:Worship Fellowship from 9 AM -11 AM
URL:https://gucvt.com/event/worship-fellowship-from-9-am-11-am/
END:VEVENT
BEGIN:VEVENT
DTSTART;TZID=America/New_York:20250531T110000
DTEND;TZID=America/New_York:20250531T140000
DTSTAMP:20260424T044648
CREATED:20250417T152400Z
LAST-MODIFIED:20250417T152400Z
UID:5684-1748689200-1748700000@gucvt.com
SUMMARY:Reception Weeding Fellowship
DESCRIPTION:Reception Weeding Fellowship
URL:https://gucvt.com/event/reception-weeding-fellowship/
END:VEVENT
END:VCALENDAR